BEGIN:VCALENDAR
VERSION:2.0
PRODID:-//Cserkész Barátok Köre - ECPv6.15.17//NONSGML v1.0//EN
CALSCALE:GREGORIAN
METHOD:PUBLISH
X-ORIGINAL-URL:https://csbk.org
X-WR-CALDESC:Események Cserkész Barátok Köre
REFRESH-INTERVAL;VALUE=DURATION:PT1H
X-Robots-Tag:noindex
X-PUBLISHED-TTL:PT1H
BEGIN:VTIMEZONE
TZID:America/New_York
BEGIN:DAYLIGHT
TZOFFSETFROM:-0500
TZOFFSETTO:-0400
TZNAME:EDT
DTSTART:20200308T070000
END:DAYLIGHT
BEGIN:STANDARD
TZOFFSETFROM:-0400
TZOFFSETTO:-0500
TZNAME:EST
DTSTART:20201101T060000
END:STANDARD
BEGIN:DAYLIGHT
TZOFFSETFROM:-0500
TZOFFSETTO:-0400
TZNAME:EDT
DTSTART:20210314T070000
END:DAYLIGHT
BEGIN:STANDARD
TZOFFSETFROM:-0400
TZOFFSETTO:-0500
TZNAME:EST
DTSTART:20211107T060000
END:STANDARD
BEGIN:DAYLIGHT
TZOFFSETFROM:-0500
TZOFFSETTO:-0400
TZNAME:EDT
DTSTART:20220313T070000
END:DAYLIGHT
BEGIN:STANDARD
TZOFFSETFROM:-0400
TZOFFSETTO:-0500
TZNAME:EST
DTSTART:20221106T060000
END:STANDARD
BEGIN:DAYLIGHT
TZOFFSETFROM:-0500
TZOFFSETTO:-0400
TZNAME:EDT
DTSTART:20230312T070000
END:DAYLIGHT
BEGIN:STANDARD
TZOFFSETFROM:-0400
TZOFFSETTO:-0500
TZNAME:EST
DTSTART:20231105T060000
END:STANDARD
BEGIN:DAYLIGHT
TZOFFSETFROM:-0500
TZOFFSETTO:-0400
TZNAME:EDT
DTSTART:20240310T070000
END:DAYLIGHT
BEGIN:STANDARD
TZOFFSETFROM:-0400
TZOFFSETTO:-0500
TZNAME:EST
DTSTART:20241103T060000
END:STANDARD
BEGIN:DAYLIGHT
TZOFFSETFROM:-0500
TZOFFSETTO:-0400
TZNAME:EDT
DTSTART:20250309T070000
END:DAYLIGHT
BEGIN:STANDARD
TZOFFSETFROM:-0400
TZOFFSETTO:-0500
TZNAME:EST
DTSTART:20251102T060000
END:STANDARD
BEGIN:DAYLIGHT
TZOFFSETFROM:-0500
TZOFFSETTO:-0400
TZNAME:EDT
DTSTART:20260308T070000
END:DAYLIGHT
BEGIN:STANDARD
TZOFFSETFROM:-0400
TZOFFSETTO:-0500
TZNAME:EST
DTSTART:20261101T060000
END:STANDARD
END:VTIMEZONE
BEGIN:VEVENT
DTSTART;TZID=America/New_York:20250831T100000
DTEND;TZID=America/New_York:20250831T200000
DTSTAMP:20260421T091307
CREATED:20250107T230548Z
LAST-MODIFIED:20250107T230808Z
UID:6300-1756634400-1756670400@csbk.org
SUMMARY:69. Cserkésznap
DESCRIPTION:
URL:https://csbk.org/event/69-cserkesznap/
LOCATION:Német park\, 7863 York Road\, Parma\, Ohio\, 44130\, Egyesült Államok
CATEGORIES:Cserkésznap
ATTACH;FMTTYPE=image/jpeg:https://csbk.org/wp-content/uploads/2025/01/20240901_150548-scaled.jpg
END:VEVENT
BEGIN:VEVENT
DTSTART;TZID=America/New_York:20240901T100000
DTEND;TZID=America/New_York:20240901T200000
DTSTAMP:20260421T091307
CREATED:20240204T014828Z
LAST-MODIFIED:20240709T232005Z
UID:5885-1725184800-1725220800@csbk.org
SUMMARY:68. Cserkésznap
DESCRIPTION:
URL:https://csbk.org/event/68-cserkesznap/
LOCATION:Német park\, 7863 York Road\, Parma\, Ohio\, 44130\, Egyesült Államok
CATEGORIES:Cserkésznap
ATTACH;FMTTYPE=image/jpeg:https://csbk.org/wp-content/uploads/2024/02/20230903_153213-scaled.jpg
END:VEVENT
BEGIN:VEVENT
DTSTART;TZID=America/New_York:20230903T100000
DTEND;TZID=America/New_York:20230903T100000
DTSTAMP:20260421T091307
CREATED:20230329T010152Z
LAST-MODIFIED:20230329T010152Z
UID:5356-1693735200-1693735200@csbk.org
SUMMARY:67. Cserkésznap
DESCRIPTION:
URL:https://csbk.org/event/67-cserkesznap/
LOCATION:Német park\, 7863 York Road\, Parma\, Ohio\, 44130\, Egyesült Államok
CATEGORIES:Cserkésznap
ATTACH;FMTTYPE=image/jpeg:https://csbk.org/wp-content/uploads/2018/12/2019.09.01-Cs.nap-HM-123.jpg
END:VEVENT
BEGIN:VEVENT
DTSTART;VALUE=DATE:20220904
DTEND;VALUE=DATE:20220905
DTSTAMP:20260421T091307
CREATED:20220118T232243Z
LAST-MODIFIED:20220118T232633Z
UID:4630-1662249600-1662335999@csbk.org
SUMMARY:66. Cserkésznap
DESCRIPTION:
URL:https://csbk.org/event/66-cserkesznap/
LOCATION:Német park\, 7863 York Road\, Parma\, Ohio\, 44130\, Egyesült Államok
CATEGORIES:Cserkésznap
ATTACH;FMTTYPE=image/jpeg:https://csbk.org/wp-content/uploads/2022/01/20210905_152816-scaled.jpg
END:VEVENT
BEGIN:VEVENT
DTSTART;TZID=America/New_York:20210905T100000
DTEND;TZID=America/New_York:20210905T190000
DTSTAMP:20260421T091307
CREATED:20190912T010017Z
LAST-MODIFIED:20210709T012835Z
UID:3939-1630836000-1630868400@csbk.org
SUMMARY:65. Cserkésznap
DESCRIPTION:
URL:https://csbk.org/event/65-cserkesznap/
LOCATION:Német park\, 7863 York Road\, Parma\, Ohio\, 44130\, Egyesült Államok
CATEGORIES:Cserkésznap
ATTACH;FMTTYPE=image/jpeg:https://csbk.org/wp-content/uploads/2018/12/2019.09.01-Cs.nap-HM-123.jpg
END:VEVENT
END:VCALENDAR